BEGIN:VCALENDAR
VERSION:2.0
PRODID:-//eventon.com NONSGML v1.0//EN
BEGIN:VEVENT
UID:69e9db813a3c9
DTSTAMP:20260423T034241
DTSTART:20200526T230000Z
DTEND:20200527T003000Z
LOCATION:
SUMMARY:Protocolos de bioseguridad
DESCRIPTION: La Cámara de Comercio de Sogamoso\,  teniendo en cuenta las recomendaciones realizadas por parte del Gobierno Nacional y Municipal para evitar la propagación del Covid-19 ha decidido ofrecer a los empresarios y comerciantes continuar con el ciclo de capacitaciones de forma virtual realizadas en articulación con las Cámaras de Comercio[..]
END:VEVENT
END:VCALENDAR