BEGIN:VCALENDAR
VERSION:2.0
PRODID:-//eventon.com NONSGML v1.0//EN
BEGIN:VEVENT
UID:69e705fb7ba33
DTSTAMP:20260421T000707
DTSTART:20240126T130000Z
DTEND:20240126T230000Z
LOCATION:
SUMMARY:Seminario Actualización Tributaria 𝟐𝟎𝟐4 y Tasa de Tributación Depurada
DESCRIPTION:  Atención la Cámara de Comercio de Sogamoso lo invita a participar del Seminario Actualización Tributaria 𝟐𝟎𝟐4 y Tasa de Tributación Depurada  Fecha: viernes 26 de enero  Hora: 8:00 am a 12:00 m y de 2:00 pm a 6:00 pm Lugar:  Auditorio Faova Cámara de Comercio de Sogamoso  Pre Inscríbete AQUÍ [..]
END:VEVENT
END:VCALENDAR